BEGIN:VCALENDAR
VERSION:2.0
PRODID:icalendar-ruby
CALSCALE:GREGORIAN
METHOD:PUBLISH
BEGIN:VEVENT
DTSTAMP:20260422T133524Z
UID:5-1465804@waverlyvaumc.org
DTSTART:20261011T150000Z
DTEND:20261011T160000Z
CLASS:PUBLIC
CREATED:20260422T083855
DESCRIPTION:Sunday Worship
LAST-MODIFIED:20260422T083855
LOCATION:
SUMMARY:Sunday Worship
URL;VALUE=URI:https://waverlyvaumc.org/events/sunday-worship/2026-10-11
END:VEVENT
END:VCALENDAR
