BEGIN:VCALENDAR
VERSION:2.0
PRODID:icalendar-ruby
CALSCALE:GREGORIAN
METHOD:PUBLISH
BEGIN:VEVENT
DTSTAMP:20260422T120011Z
UID:5-1465424@waverlyvaumc.org
DTSTART:20261004T150000Z
DTEND:20261004T160000Z
CLASS:PUBLIC
CREATED:20260421T213100
DESCRIPTION:Sunday Worship
LAST-MODIFIED:20260421T213100
LOCATION:
SUMMARY:Sunday Worship
URL;VALUE=URI:https://waverlyvaumc.org/events/sunday-worship/2026-10-04
END:VEVENT
END:VCALENDAR
